Package: spatialLIBD Version: 1.21.5 Command: /home/biocbuild/bbs-3.22-bioc/R/bin/R CMD build --keep-empty-dirs --no-resave-data spatialLIBD StartedAt: 2025-07-08 11:42:52 -0400 (Tue, 08 Jul 2025) EndedAt: 2025-07-08 11:48:04 -0400 (Tue, 08 Jul 2025) EllapsedTime: 311.6 seconds RetCode: 0 Status: OK PackageFile: spatialLIBD_1.21.5.tar.gz PackageFileSize: 19.58 MiB