Package: spatialLIBD Version: 1.21.5 Command: /home/biocbuild/bbs-3.22-bioc/R/bin/R CMD check --install=check:spatialLIBD.install-out.txt --library=/home/biocbuild/bbs-3.22-bioc/R/site-library --timings spatialLIBD_1.21.5.tar.gz StartedAt: 2025-07-10 13:03:58 -0400 (Thu, 10 Jul 2025) EndedAt: 2025-07-10 13:22:51 -0400 (Thu, 10 Jul 2025) EllapsedTime: 1133.7 seconds RetCode: 0 Status: OK CheckDir: spatialLIBD.Rcheck Warnings: 0