Package: spatialLIBD Version: 1.21.5 Command: /home/biocbuild/bbs-3.22-bioc/R/bin/R CMD INSTALL spatialLIBD StartedAt: 2025-07-08 11:02:07 -0400 (Tue, 08 Jul 2025) EndedAt: 2025-07-08 11:02:52 -0400 (Tue, 08 Jul 2025) EllapsedTime: 44.3 seconds RetCode: 0 Status: OK