Package: spqnData Version: 1.21.0 Command: /home/biocbuild/bbs-3.22-bioc/R/bin/R CMD INSTALL spqnData StartedAt: 2025-07-10 10:59:29 -0400 (Thu, 10 Jul 2025) EndedAt: 2025-07-10 10:59:44 -0400 (Thu, 10 Jul 2025) EllapsedTime: 14.7 seconds RetCode: 0 Status: OK