Package: systemPipeRdata Version: 2.15.0 Command: /home/biocbuild/bbs-3.23-bioc/R/bin/R CMD build --keep-empty-dirs --no-resave-data systemPipeRdata StartedAt: 2025-11-04 11:44:32 -0500 (Tue, 04 Nov 2025) EndedAt: 2025-11-04 11:45:38 -0500 (Tue, 04 Nov 2025) EllapsedTime: 66.7 seconds RetCode: 0 Status: OK PackageFile: systemPipeRdata_2.15.0.tar.gz PackageFileSize: 272.7 MiB