Package: systemPipeRdata Version: 2.13.2 Command: /home/biocbuild/bbs-3.22-bioc/R/bin/R CMD check --install=check:systemPipeRdata.install-out.txt --library=/home/biocbuild/bbs-3.22-bioc/R/site-library --timings systemPipeRdata_2.13.2.tar.gz StartedAt: 2025-07-17 13:07:49 -0400 (Thu, 17 Jul 2025) EndedAt: 2025-07-17 13:10:20 -0400 (Thu, 17 Jul 2025) EllapsedTime: 150.7 seconds RetCode: 0 Status: OK CheckDir: systemPipeRdata.Rcheck Warnings: 0