Package: tartare Version: 1.23.0 Command: /home/biocbuild/bbs-3.22-bioc/R/bin/R CMD build --keep-empty-dirs --no-resave-data tartare StartedAt: 2025-07-10 11:45:13 -0400 (Thu, 10 Jul 2025) EndedAt: 2025-07-10 11:45:34 -0400 (Thu, 10 Jul 2025) EllapsedTime: 20.9 seconds RetCode: 0 Status: OK PackageFile: tartare_1.23.0.tar.gz PackageFileSize: 307.4 KiB