Package: tartare Version: 1.23.0 Command: /home/biocbuild/bbs-3.22-bioc/R/bin/R CMD INSTALL tartare StartedAt: 2025-07-10 10:57:14 -0400 (Thu, 10 Jul 2025) EndedAt: 2025-07-10 10:57:28 -0400 (Thu, 10 Jul 2025) EllapsedTime: 13.2 seconds RetCode: 0 Status: OK