Package: timecoursedata Version: 1.19.0 Command: /home/biocbuild/bbs-3.22-bioc/R/bin/R CMD build --keep-empty-dirs --no-resave-data timecoursedata StartedAt: 2025-07-08 11:45:38 -0400 (Tue, 08 Jul 2025) EndedAt: 2025-07-08 11:46:20 -0400 (Tue, 08 Jul 2025) EllapsedTime: 41.9 seconds RetCode: 0 Status: OK PackageFile: timecoursedata_1.19.0.tar.gz PackageFileSize: 44.87 MiB