Package: timecoursedata Version: 1.19.0 Command: /home/biocbuild/bbs-3.22-bioc/R/bin/R CMD INSTALL timecoursedata StartedAt: 2025-07-08 11:00:24 -0400 (Tue, 08 Jul 2025) EndedAt: 2025-07-08 11:00:47 -0400 (Tue, 08 Jul 2025) EllapsedTime: 23.1 seconds RetCode: 0 Status: OK