Package: tinesath1cdf Version: 1.47.0 Command: /home/biocbuild/bbs-3.22-bioc/R/bin/R CMD INSTALL tinesath1cdf StartedAt: 2025-07-08 10:55:12 -0400 (Tue, 08 Jul 2025) EndedAt: 2025-07-08 10:55:13 -0400 (Tue, 08 Jul 2025) EllapsedTime: 1.2 seconds RetCode: 0 Status: OK