Package: tinesath1probe Version: 1.49.0 Command: /home/biocbuild/bbs-3.23-bioc/R/bin/R CMD build --keep-empty-dirs --no-resave-data tinesath1probe StartedAt: 2025-11-13 11:47:20 -0500 (Thu, 13 Nov 2025) EndedAt: 2025-11-13 11:47:22 -0500 (Thu, 13 Nov 2025) EllapsedTime: 2.0 seconds RetCode: 0 Status: OK PackageFile: tinesath1probe_1.49.0.tar.gz PackageFileSize: 3.037 MiB