Package: tinesath1probe Version: 1.47.0 Command: /home/biocbuild/bbs-3.22-bioc/R/bin/R CMD INSTALL tinesath1probe StartedAt: 2025-07-10 10:56:40 -0400 (Thu, 10 Jul 2025) EndedAt: 2025-07-10 10:56:50 -0400 (Thu, 10 Jul 2025) EllapsedTime: 9.3 seconds RetCode: 0 Status: OK