Package: tissueTreg Version: 1.29.0 Command: /home/biocbuild/bbs-3.22-bioc/R/bin/R CMD build --keep-empty-dirs --no-resave-data tissueTreg StartedAt: 2025-07-10 11:47:09 -0400 (Thu, 10 Jul 2025) EndedAt: 2025-07-10 11:48:42 -0400 (Thu, 10 Jul 2025) EllapsedTime: 93.2 seconds RetCode: 0 Status: OK PackageFile: tissueTreg_1.29.0.tar.gz PackageFileSize: 684.6 KiB