Package: tofsimsData Version: 1.37.0 Command: /home/biocbuild/bbs-3.22-bioc/R/bin/R CMD INSTALL tofsimsData StartedAt: 2025-07-10 10:55:22 -0400 (Thu, 10 Jul 2025) EndedAt: 2025-07-10 10:55:24 -0400 (Thu, 10 Jul 2025) EllapsedTime: 1.7 seconds RetCode: 0 Status: OK