Package: tuberculosis Version: 1.15.0 Command: /home/biocbuild/bbs-3.22-bioc/R/bin/R CMD build --keep-empty-dirs --no-resave-data tuberculosis StartedAt: 2025-07-10 11:47:36 -0400 (Thu, 10 Jul 2025) EndedAt: 2025-07-10 11:48:48 -0400 (Thu, 10 Jul 2025) EllapsedTime: 72.0 seconds RetCode: 0 Status: OK PackageFile: tuberculosis_1.15.0.tar.gz PackageFileSize: 356.1 KiB