Package: tuberculosis Version: 1.15.0 Command: /home/biocbuild/bbs-3.22-bioc/R/bin/R CMD INSTALL tuberculosis StartedAt: 2025-07-10 10:59:04 -0400 (Thu, 10 Jul 2025) EndedAt: 2025-07-10 10:59:35 -0400 (Thu, 10 Jul 2025) EllapsedTime: 31.0 seconds RetCode: 0 Status: OK