Package: tweeDEseqCountData Version: 1.49.0 Command: /home/biocbuild/bbs-3.23-bioc/R/bin/R CMD INSTALL tweeDEseqCountData StartedAt: 2025-11-04 10:56:24 -0500 (Tue, 04 Nov 2025) EndedAt: 2025-11-04 10:56:27 -0500 (Tue, 04 Nov 2025) EllapsedTime: 3.5 seconds RetCode: 0 Status: OK