Package: xcoredata Version: 1.13.0 Command: /home/biocbuild/bbs-3.22-bioc/R/bin/R CMD build --keep-empty-dirs --no-resave-data xcoredata StartedAt: 2025-07-10 11:48:49 -0400 (Thu, 10 Jul 2025) EndedAt: 2025-07-10 11:50:58 -0400 (Thu, 10 Jul 2025) EllapsedTime: 129.9 seconds RetCode: 0 Status: OK PackageFile: xcoredata_1.13.0.tar.gz PackageFileSize: 1.332 MiB