Package: xcoredata Version: 1.13.0 Command: /home/biocbuild/bbs-3.22-bioc/R/bin/R CMD INSTALL xcoredata StartedAt: 2025-07-10 10:57:19 -0400 (Thu, 10 Jul 2025) EndedAt: 2025-07-10 10:57:34 -0400 (Thu, 10 Jul 2025) EllapsedTime: 14.5 seconds RetCode: 0 Status: OK