Package: yeastCC Version: 1.49.0 Command: /home/biocbuild/bbs-3.22-bioc/R/bin/R CMD INSTALL yeastCC StartedAt: 2025-07-10 10:56:20 -0400 (Thu, 10 Jul 2025) EndedAt: 2025-07-10 10:56:25 -0400 (Thu, 10 Jul 2025) EllapsedTime: 4.8 seconds RetCode: 0 Status: OK