Package: yeastExpData Version: 0.55.0 Command: /home/biocbuild/bbs-3.22-bioc/R/bin/R CMD build --keep-empty-dirs --no-resave-data yeastExpData StartedAt: 2025-07-10 11:48:56 -0400 (Thu, 10 Jul 2025) EndedAt: 2025-07-10 11:49:05 -0400 (Thu, 10 Jul 2025) EllapsedTime: 8.4 seconds RetCode: 0 Status: OK PackageFile: yeastExpData_0.55.0.tar.gz PackageFileSize: 935.1 KiB