Package: yeastExpData Version: 0.55.0 Command: /home/biocbuild/bbs-3.22-bioc/R/bin/R CMD INSTALL yeastExpData StartedAt: 2025-07-10 10:56:21 -0400 (Thu, 10 Jul 2025) EndedAt: 2025-07-10 10:56:26 -0400 (Thu, 10 Jul 2025) EllapsedTime: 5.1 seconds RetCode: 0 Status: OK