Package: yeastGSData Version: 0.47.0 Command: /home/biocbuild/bbs-3.22-bioc/R/bin/R CMD INSTALL yeastGSData StartedAt: 2025-07-10 10:55:29 -0400 (Thu, 10 Jul 2025) EndedAt: 2025-07-10 10:55:35 -0400 (Thu, 10 Jul 2025) EllapsedTime: 5.6 seconds RetCode: 0 Status: OK