Package: yeastRNASeq Version: 0.47.0 Command: /home/biocbuild/bbs-3.22-bioc/R/bin/R CMD build --keep-empty-dirs --no-resave-data yeastRNASeq StartedAt: 2025-07-10 11:49:02 -0400 (Thu, 10 Jul 2025) EndedAt: 2025-07-10 11:49:45 -0400 (Thu, 10 Jul 2025) EllapsedTime: 42.1 seconds RetCode: 0 Status: OK PackageFile: yeastRNASeq_0.47.0.tar.gz PackageFileSize: 306.9 MiB