Package: zebrafishRNASeq Version: 1.31.0 Command: /home/biocbuild/bbs-3.23-bioc/R/bin/R CMD build --keep-empty-dirs --no-resave-data zebrafishRNASeq StartedAt: 2025-10-30 11:44:26 -0400 (Thu, 30 Oct 2025) EndedAt: 2025-10-30 11:44:30 -0400 (Thu, 30 Oct 2025) EllapsedTime: 3.5 seconds RetCode: 0 Status: OK PackageFile: zebrafishRNASeq_1.31.0.tar.gz PackageFileSize: 429 KiB