Package: BP4RNAseq Version: 1.19.0 Command: /home/biocbuild/bbs-3.22-bioc/R/bin/R CMD INSTALL BP4RNAseq StartedAt: 2025-07-11 13:00:16 -0400 (Fri, 11 Jul 2025) EndedAt: 2025-07-11 13:00:20 -0400 (Fri, 11 Jul 2025) EllapsedTime: 3.2 seconds RetCode: 0 Status: OK