Package: CAGEWorkflow Version: 1.25.0 Command: /home/biocbuild/bbs-3.22-bioc/R/bin/R CMD INSTALL CAGEWorkflow StartedAt: 2025-07-15 13:00:34 -0400 (Tue, 15 Jul 2025) EndedAt: 2025-07-15 13:01:07 -0400 (Tue, 15 Jul 2025) EllapsedTime: 33.1 seconds RetCode: 0 Status: OK