Package: ExpHunterSuite Version: 1.19.0 Command: /Library/Frameworks/R.framework/Resources/bin/R CMD build --keep-empty-dirs --no-resave-data ExpHunterSuite StartedAt: 2025-11-25 13:03:52 -0500 (Tue, 25 Nov 2025) EndedAt: 2025-11-25 13:04:15 -0500 (Tue, 25 Nov 2025) EllapsedTime: 22.8 seconds RetCode: 1 Status: ERROR PackageFile: None PackageFileSize: NA