Package: ExpHunterSuite Version: 1.19.0 Command: /Library/Frameworks/R.framework/Resources/bin/R CMD INSTALL ExpHunterSuite StartedAt: 2025-11-18 13:01:03 -0500 (Tue, 18 Nov 2025) EndedAt: 2025-11-18 13:01:24 -0500 (Tue, 18 Nov 2025) EllapsedTime: 21.8 seconds RetCode: 1 Status: ERROR