Package: ExpHunterSuite Version: 1.17.0 Command: /home/biocbuild/bbs-3.22-bioc/R/bin/R CMD build --keep-empty-dirs --no-resave-data ExpHunterSuite StartedAt: 2025-07-11 13:04:44 -0400 (Fri, 11 Jul 2025) EndedAt: 2025-07-11 13:08:30 -0400 (Fri, 11 Jul 2025) EllapsedTime: 226.1 seconds RetCode: 0 Status: OK PackageFile: ExpHunterSuite_1.17.0.tar.gz PackageFileSize: 4.111 MiB