Package: ExpHunterSuite Version: 1.17.0 Command: /home/biocbuild/bbs-3.22-bioc/R/bin/R CMD INSTALL ExpHunterSuite StartedAt: 2025-07-11 13:01:03 -0400 (Fri, 11 Jul 2025) EndedAt: 2025-07-11 13:02:11 -0400 (Fri, 11 Jul 2025) EllapsedTime: 68.0 seconds RetCode: 0 Status: OK