Package: ExpressionNormalizationWorkflow Version: 1.35.0 Command: /Library/Frameworks/R.framework/Resources/bin/R CMD build --keep-empty-dirs --no-resave-data ExpressionNormalizationWorkflow StartedAt: 2025-07-11 13:03:43 -0400 (Fri, 11 Jul 2025) EndedAt: 2025-07-11 13:08:39 -0400 (Fri, 11 Jul 2025) EllapsedTime: 296.9 seconds RetCode: 0 Status: OK PackageFile: ExpressionNormalizationWorkflow_1.35.0.tar.gz PackageFileSize: 3.351 MiB