Package: ExpressionNormalizationWorkflow Version: 1.37.0 Command: /home/biocbuild/bbs-3.23-bioc/R/bin/R CMD build --keep-empty-dirs --no-resave-data ExpressionNormalizationWorkflow StartedAt: 2025-11-14 13:04:18 -0500 (Fri, 14 Nov 2025) EndedAt: 2025-11-14 13:09:15 -0500 (Fri, 14 Nov 2025) EllapsedTime: 297.1 seconds RetCode: 0 Status: OK PackageFile: ExpressionNormalizationWorkflow_1.37.0.tar.gz PackageFileSize: 3.419 MiB