Package: ExpressionNormalizationWorkflow Version: 1.35.0 Command: /home/biocbuild/bbs-3.22-bioc/R/bin/R CMD build --keep-empty-dirs --no-resave-data ExpressionNormalizationWorkflow StartedAt: 2025-07-11 13:04:44 -0400 (Fri, 11 Jul 2025) EndedAt: 2025-07-11 13:09:48 -0400 (Fri, 11 Jul 2025) EllapsedTime: 304.1 seconds RetCode: 0 Status: OK PackageFile: ExpressionNormalizationWorkflow_1.35.0.tar.gz PackageFileSize: 3.42 MiB