Package: ExpressionNormalizationWorkflow Version: 1.35.0 Command: /home/biocbuild/bbs-3.22-bioc/R/bin/R CMD INSTALL ExpressionNormalizationWorkflow StartedAt: 2025-07-11 13:00:26 -0400 (Fri, 11 Jul 2025) EndedAt: 2025-07-11 13:00:48 -0400 (Fri, 11 Jul 2025) EllapsedTime: 22.1 seconds RetCode: 0 Status: OK