Package: ExpressionNormalizationWorkflow Version: 1.35.0 Command: F:\biocbuild\bbs-3.22-bioc\R\bin\R.exe CMD INSTALL ExpressionNormalizationWorkflow StartedAt: 2025-07-11 13:01:46 -0400 (Fri, 11 Jul 2025) EndedAt: 2025-07-11 13:02:12 -0400 (Fri, 11 Jul 2025) EllapsedTime: 26.2 seconds RetCode: 0 Status: OK