Package: GeoMxWorkflows Version: 1.15.1 Command: /Library/Frameworks/R.framework/Resources/bin/R CMD build --keep-empty-dirs --no-resave-data GeoMxWorkflows StartedAt: 2025-07-15 13:03:54 -0400 (Tue, 15 Jul 2025) EndedAt: 2025-07-15 13:25:38 -0400 (Tue, 15 Jul 2025) EllapsedTime: 1304.0 seconds RetCode: 0 Status: OK PackageFile: GeoMxWorkflows_1.15.1.tar.gz PackageFileSize: 23.21 MiB