Package: GeoMxWorkflows Version: 1.15.1 Command: /Library/Frameworks/R.framework/Resources/bin/R CMD INSTALL GeoMxWorkflows StartedAt: 2025-07-15 13:00:23 -0400 (Tue, 15 Jul 2025) EndedAt: 2025-07-15 13:00:36 -0400 (Tue, 15 Jul 2025) EllapsedTime: 13.1 seconds RetCode: 0 Status: OK