Package: GeoMxWorkflows Version: 1.15.0 Command: /home/biocbuild/bbs-3.22-bioc/R/bin/R CMD INSTALL GeoMxWorkflows StartedAt: 2025-07-11 13:00:16 -0400 (Fri, 11 Jul 2025) EndedAt: 2025-07-11 13:00:32 -0400 (Fri, 11 Jul 2025) EllapsedTime: 15.5 seconds RetCode: 0 Status: OK