Package: RNAseq123 Version: 1.35.0 Command: /Library/Frameworks/R.framework/Resources/bin/R CMD build --keep-empty-dirs --no-resave-data RNAseq123 StartedAt: 2025-11-25 13:05:30 -0500 (Tue, 25 Nov 2025) EndedAt: 2025-11-25 13:07:28 -0500 (Tue, 25 Nov 2025) EllapsedTime: 118.3 seconds RetCode: 0 Status: OK PackageFile: RNAseq123_1.35.0.tar.gz PackageFileSize: 7.252 MiB