Package: RNAseq123 Version: 1.35.0 Command: /Library/Frameworks/R.framework/Resources/bin/R CMD INSTALL RNAseq123 StartedAt: 2025-11-25 13:00:33 -0500 (Tue, 25 Nov 2025) EndedAt: 2025-11-25 13:00:56 -0500 (Tue, 25 Nov 2025) EllapsedTime: 23.0 seconds RetCode: 0 Status: OK