Package: RNAseq123 Version: 1.33.0 Command: /home/biocbuild/bbs-3.22-bioc/R/bin/R CMD build --keep-empty-dirs --no-resave-data RNAseq123 StartedAt: 2025-07-11 13:06:53 -0400 (Fri, 11 Jul 2025) EndedAt: 2025-07-11 13:08:24 -0400 (Fri, 11 Jul 2025) EllapsedTime: 91.0 seconds RetCode: 0 Status: OK PackageFile: RNAseq123_1.33.0.tar.gz PackageFileSize: 6.918 MiB