Package: RNAseq123 Version: 1.33.0 Command: /home/biocbuild/bbs-3.22-bioc/R/bin/R CMD INSTALL RNAseq123 StartedAt: 2025-07-11 13:01:01 -0400 (Fri, 11 Jul 2025) EndedAt: 2025-07-11 13:01:29 -0400 (Fri, 11 Jul 2025) EllapsedTime: 28.0 seconds RetCode: 0 Status: OK