Package: RnaSeqGeneEdgeRQL Version: 1.33.0 Command: /home/biocbuild/bbs-3.22-bioc/R/bin/R CMD build --keep-empty-dirs --no-resave-data RnaSeqGeneEdgeRQL StartedAt: 2025-07-11 13:08:30 -0400 (Fri, 11 Jul 2025) EndedAt: 2025-07-11 13:09:37 -0400 (Fri, 11 Jul 2025) EllapsedTime: 67.0 seconds RetCode: 0 Status: OK PackageFile: RnaSeqGeneEdgeRQL_1.33.0.tar.gz PackageFileSize: 1.596 MiB