Package: SingscoreAMLMutations Version: 1.25.0 Maintainer: Dharmesh D. Bhuva MaintainerEmail: bhuva.d at wehi.edu.au git_url: https://git.bioconductor.org/packages/SingscoreAMLMutations git_branch: devel git_last_commit: ab48ab3 git_last_commit_date: 2025-04-15 10:29:37 -0400 (Tue, 15 Apr 2025)