Package: SingscoreAMLMutations Version: 1.25.0 Command: /Library/Frameworks/R.framework/Resources/bin/R CMD build --keep-empty-dirs --no-resave-data SingscoreAMLMutations StartedAt: 2025-07-15 13:08:38 -0400 (Tue, 15 Jul 2025) EndedAt: 2025-07-15 13:13:16 -0400 (Tue, 15 Jul 2025) EllapsedTime: 277.5 seconds RetCode: 1 Status: ERROR PackageFile: None PackageFileSize: NA