Package: SingscoreAMLMutations Version: 1.27.0 Command: /home/biocbuild/bbs-3.23-bioc/R/bin/R CMD build --keep-empty-dirs --no-resave-data SingscoreAMLMutations StartedAt: 2025-11-14 13:10:25 -0500 (Fri, 14 Nov 2025) EndedAt: 2025-11-14 13:15:01 -0500 (Fri, 14 Nov 2025) EllapsedTime: 275.5 seconds RetCode: 1 Status: ERROR PackageFile: None PackageFileSize: NA