Package: SingscoreAMLMutations Version: 1.25.0 Command: /home/biocbuild/bbs-3.22-bioc/R/bin/R CMD build --keep-empty-dirs --no-resave-data SingscoreAMLMutations StartedAt: 2025-07-11 13:10:19 -0400 (Fri, 11 Jul 2025) EndedAt: 2025-07-11 13:15:09 -0400 (Fri, 11 Jul 2025) EllapsedTime: 290.4 seconds RetCode: 1 Status: ERROR PackageFile: None PackageFileSize: NA