Package: SingscoreAMLMutations Version: 1.25.0 Command: /home/biocbuild/bbs-3.22-bioc/R/bin/R CMD INSTALL SingscoreAMLMutations StartedAt: 2025-07-11 13:00:29 -0400 (Fri, 11 Jul 2025) EndedAt: 2025-07-11 13:01:08 -0400 (Fri, 11 Jul 2025) EllapsedTime: 39.5 seconds RetCode: 0 Status: OK